BEGIN:VCALENDAR
VERSION:2.0
PRODID:-//hacksw/handcal//NONSGML v1.0//EN
BEGIN:VEVENT
SUMMARY:Rencontre Nord Sud
UID:6f83f5c7-dff7-4fd4-bc0e-a1cb49154a69
DTSTART:20260416T070000Z
DTEND:20260416T140000Z
LOCATION:Localisation   
CATEGORIES:Sportif
STATUS:
DESCRIPTION:<p>MatchPlay organise par les capitaines d'equipes qui
 selectionnent leurs meilleurs joueurs.</p>
URL;VALUE=URI:https://www.asgolfkerbernez.fr/evenements/2026/04/16/rencontre-nord-sud-2440441
END:VEVENT
END:VCALENDAR
