BEGIN:VCALENDAR
VERSION:2.0
PRODID:-//hacksw/handcal//NONSGML v1.0//EN
BEGIN:VEVENT
SUMMARY:Super challenge au pitch and putt T5
UID:f495af2f-c66f-470d-bb7a-aae8a5a59dce
DTSTART:20260417T113000Z
DTEND:20260418T140000Z
LOCATION:Localisation   
CATEGORIES:Sportif
STATUS:
DESCRIPTION:<p>Cinquieme journee du super challenge au Pitch and
 Putt</p>
 
 <p>Il reste des places</p>
 
 <p>Details et inscriptions
 sur <a href="https://www.isp.golf" target="_blank" rel="noreferrer
 noopener">ISP</a></p>
URL;VALUE=URI:https://www.asgolfkerbernez.fr/evenements/2026/04/17/super-challenge-au-pitch-and-putt-t5-2439827
END:VEVENT
END:VCALENDAR
